BEGIN:VCALENDAR
VERSION:2.0
PRODID:-//wp-events-plugin.com//7.2.3.1//EN
TZID:Europe/Berlin
X-WR-TIMEZONE:Europe/Berlin
BEGIN:VEVENT
UID:334@christophorus-kliniken.de
DTSTART;TZID=Europe/Berlin:20261114T130000
DTEND;TZID=Europe/Berlin:20261114T164500
DTSTAMP:20251110T071601Z
URL:https://christophorus-kliniken.de/veranstaltungen/aktualisierungskurs-
 fachkunde-im-strahlenschutz-nach-%c2%a748-%c2%a749-strlschv-fuer-die-anwen
 dungsbereiche-roentgendiagnostik-strahlentherapie-2/
SUMMARY:Aktualisierungskurs Fachkunde im Strahlenschutz nach §48\, §49 St
 rlSchV für die Anwendungsbereiche Röntgendiagnostik\, Strahlentherapie\,
  Modul 2
DESCRIPTION:Modular aufgebauter kombinierter Aktualisierungskurs nach §48\
 , §49 StrlSchV.\n\nEs handelt sich um eine Pflichtveranstaltung für OP-\
 , Funktions- und Ambulanzpersonal aus den Funktionsbereichen\, die mit Rö
 ntgenstrahlen in Kontakt kommen\, somit für alle Personen\, die im Besitz
  einer Röntgenplakette sind.\n\nEs werden Informationen zu neuen technisc
 hen und rechtlichen Entwicklungen gegeben.\n\nEs handelt sich um eine Pfli
 chtveranstaltung für die o.g. Zielgruppe\n\nModul 2: Samstag\, 14.11.2026
 \, 13:00 – 16:15 Uhr\n\nFortbildungspunkte:\nbei der Ärztekammer sind b
 eantragt\n\nKursgebühr:\n120 € incl. Catering für externe Teilnehmende
 \n\nBitte überweisen Sie den Betrag auf das folgende Konto:\n\nChristopho
 rus Kliniken\nBank: DKM Münster\nBIC: GENODEM1DKM\nIBAN: DE 304 006 0265 
 000 308 5900\n\nNach erfolgtem Zahlungseingang ist Ihre Anmeldung verbindl
 ich.\n\nBei Fragen:\nMarlies Growe\, Sekretariat Radiologie\nE-Mail: radio
 logie@christophorus-kliniken.de\nTel. 02541 89-11119
ATTACH;FMTTYPE=image/jpeg:https://christophorus-kliniken.de/wp-content/upl
 oads/Radiologie_MTRA_am-CT.jpg
CATEGORIES:Veranstaltungen &amp; Fortbildungen
LOCATION:Christophorus Kliniken Dülmen\, Vollenstr. 10\, Dülmen\, NRW\, 4
 8249\, Deutschland
X-APPLE-STRUCTURED-LOCATION;VALUE=URI;X-ADDRESS=Vollenstr. 10\, Dülmen\, N
 RW\, 48249\, Deutschland;X-APPLE-RADIUS=100;X-TITLE=Christophorus Kliniken
  Dülmen:geo:0,0
END:VEVENT
BEGIN:VTIMEZONE
TZID:Europe/Berlin
X-LIC-LOCATION:Europe/Berlin
BEGIN:STANDARD
DTSTART:20261025T020000
TZOFFSETFROM:+0200
TZOFFSETTO:+0100
TZNAME:CET
END:STANDARD
END:VTIMEZONE
END:VCALENDAR