BEGIN:VCALENDAR
VERSION:2.0
PRODID:-//wp-events-plugin.com//7.2.3.1//EN
TZID:Europe/Berlin
X-WR-TIMEZONE:Europe/Berlin
BEGIN:VEVENT
UID:144@christophorus-kliniken.de
DTSTART;TZID=Europe/Berlin:20181113T180000
DTEND;TZID=Europe/Berlin:20181113T203000
DTSTAMP:20181105T163429Z
URL:https://christophorus-kliniken.de/veranstaltungen/duelmener-ms-infoabe
 nd/
SUMMARY:Dülmener MS-Infoabend
DESCRIPTION:Die Spastik gehört zu den häufigsten Symptomen bei MS. Wir st
 ellen Ihnen Möglichkeiten und Grenzen der Behandlung vor.\nUnser auf MS s
 pezialisierter Oberarzt\, Dr. Meyer\, wird zu dem Thema Schwangerschaft (F
 ruchtbarkeit\, Schwangerschaft\, Geburt\, Stillen) referieren.\nFrau Kleen
 \, MS-Nurse\, stellt Hilfsmittel bei Blasen- und Darmfunktionsstörungen v
 or.\nWie die Spastik gehört auch die Fatigue zu den häufigsten Symptomen
  und bedingt nicht selten eine depressive Verstimmung. Unsere Neuropsychol
 ogin\, Frau Overbeck\, wird zu diesem Thema informieren.\nIm Anschluss an 
 die Vorträge haben Sie Gelegenheit\, Fragen zu stellen. Auch zu Themen\, 
 die nicht Inhalt der Vorträge waren.\n&gt\;&gt\; zum Download: Flyer des 
 MS-Abends
ATTACH;FMTTYPE=image/jpeg:https://christophorus-kliniken.de/wp-content/upl
 oads/MS-Abend_2018.jpg
CATEGORIES:Veranstaltungen &amp; Fortbildungen
LOCATION:Christophorus Kliniken Dülmen\, Vollenstr. 10\, Dülmen\, NRW\, 4
 8249\, Deutschland
X-APPLE-STRUCTURED-LOCATION;VALUE=URI;X-ADDRESS=Vollenstr. 10\, Dülmen\, N
 RW\, 48249\, Deutschland;X-APPLE-RADIUS=100;X-TITLE=Christophorus Kliniken
  Dülmen:geo:0,0
END:VEVENT
BEGIN:VTIMEZONE
TZID:Europe/Berlin
X-LIC-LOCATION:Europe/Berlin
BEGIN:STANDARD
DTSTART:20181028T020000
TZOFFSETFROM:+0200
TZOFFSETTO:+0100
TZNAME:CET
END:STANDARD
END:VTIMEZONE
END:VCALENDAR