BEGIN:VCALENDAR
VERSION:2.0
PRODID:-//wp-events-plugin.com//7.2.3.1//EN
TZID:Europe/Berlin
X-WR-TIMEZONE:Europe/Berlin
BEGIN:VEVENT
UID:134@christophorus-kliniken.de
DTSTART;TZID=Europe/Berlin:20180630T090000
DTEND;TZID=Europe/Berlin:20180630T140000
DTSTAMP:20180612T084555Z
URL:https://christophorus-kliniken.de/veranstaltungen/duelmener-therapeute
 nkongress-interdisziplinaere-zusammenarbeit-aber-wie/
SUMMARY:Dülmener Therapeutenkongress: Interdisziplinäre Zusammenarbeit - 
 aber wie?
DESCRIPTION:Das Gesundheitswesen unterliegt einem ständigen Wandel und die
  Therapeuten stecken mittendrin. Eine Vernetzung der verschiedenen Berufsg
 ruppen erscheint unabdingbar. Doch dazu muss man erst einmal für sich sel
 bst klären\, was das eigentlich bedeutet:\n               
             Vernetzung\, Zusammenarbeit\, Austausch\, Kommunika
 tion...\nEs sind Vorträge und Workshops zum Thema geplant und wir erhoffe
 n uns eine rege Beteiligung aller therapeutischen Disziplinen.\nDie Einlad
 ung richtet sich daher an alle in Dülmen tätigen Logopäden\, Ergotherap
 euten\, Physiotherapeuten und Osteopathen.\n&gt\; zur Ankündigung\nEinen 
 Anmeldung kann einzeln\, aber auch als Gemeinschaftsanmeldung einer Praxis
  erfolgen. Bitte beachten Sie\, dass sich bei nicht ausreichender Teilnehm
 erzahl das Angebot der Workshops verringert.
CATEGORIES:Veranstaltungen &amp; Fortbildungen
LOCATION:Christophorus Kliniken Dülmen\, Vollenstr. 10\, Dülmen\, NRW\, 4
 8249\, Deutschland
X-APPLE-STRUCTURED-LOCATION;VALUE=URI;X-ADDRESS=Vollenstr. 10\, Dülmen\, N
 RW\, 48249\, Deutschland;X-APPLE-RADIUS=100;X-TITLE=Christophorus Kliniken
  Dülmen:geo:0,0
END:VEVENT
BEGIN:VTIMEZONE
TZID:Europe/Berlin
X-LIC-LOCATION:Europe/Berlin
BEGIN:DAYLIGHT
DTSTART:20180325T030000
TZOFFSETFROM:+0100
TZOFFSETTO:+0200
TZNAME:CEST
END:DAYLIGHT
END:VTIMEZONE
END:VCALENDAR