BEGIN:VCALENDAR
VERSION:2.0
PRODID:-//wp-events-plugin.com//7.2.3.1//EN
TZID:Europe/Berlin
X-WR-TIMEZONE:Europe/Berlin
BEGIN:VEVENT
UID:391@christophorus-kliniken.de
DTSTART;TZID=Europe/Berlin:20260508T143000
DTEND;TZID=Europe/Berlin:20260509T150000
DTSTAMP:20260302T103134Z
URL:https://christophorus-kliniken.de/veranstaltungen/fachtagung-psycholog
 ie-und-parkinson/
SUMMARY:Fachtagung "Psychologie und Parkinson"
DESCRIPTION:Die Fachtagung "Psychologie und Parkinson" wird nun bereits zum
  3. Mal von den Christophorus Kliniken Dülmen ausgerichtet und richtet si
 ch an Fachkolleginnen und -kollegen.\n\nDie Referierenden beleuchten inter
 essante Aspekte der Erkrankung.\n\nDas Programm können Sie hier einsehen.
  
ATTACH;FMTTYPE=image/jpeg:https://christophorus-kliniken.de/wp-content/upl
 oads/shutterstock_402361804-scaled.jpg
CATEGORIES:Angebote für Fachpublikum
LOCATION:Christophorus Kliniken\, Vortragsraum UG\, Vollenstr. 10\, Dülmen
 \, 48249\, Deutschland
X-APPLE-STRUCTURED-LOCATION;VALUE=URI;X-ADDRESS=Vollenstr. 10\, Dülmen\, 4
 8249\, Deutschland;X-APPLE-RADIUS=100;X-TITLE=Christophorus Kliniken\, Vor
 tragsraum UG:geo:0,0
END:VEVENT
BEGIN:VTIMEZONE
TZID:Europe/Berlin
X-LIC-LOCATION:Europe/Berlin
BEGIN:DAYLIGHT
DTSTART:20260329T030000
TZOFFSETFROM:+0100
TZOFFSETTO:+0200
TZNAME:CEST
END:DAYLIGHT
END:VTIMEZONE
END:VCALENDAR