BEGIN:VCALENDAR
VERSION:2.0
PRODID:-//wp-events-plugin.com//7.2.3.1//EN
TZID:Europe/Berlin
X-WR-TIMEZONE:Europe/Berlin
BEGIN:VEVENT
UID:329@christophorus-kliniken.de
DTSTART;TZID=Europe/Berlin:20251008T150000
DTEND;TZID=Europe/Berlin:20251008T173000
DTSTAMP:20250822T171007Z
URL:https://christophorus-kliniken.de/veranstaltungen/parkinson-tag/
SUMMARY:Dülmener Parkinson-Tag
DESCRIPTION:Angesprochen sind besonders die Mitglieder der Parkinson-Selbst
 hilfegruppen Steinfurt\, Rheine und Ibbenbüren.\n\nWir stellen Wissenswer
 tes und Neuerungen zu Schwerpunktthemen aus Diagnostik und Therapie vor\, 
 insbesondere im Bereich der subkutanen und sublingualen medikamentösen Be
 handlung.  Damit ein möglichst gutes Ergebnis Ihrer Tiefen Hirnstimulati
 on erzielt wird\, sind eine differenzierte Indikationsstellung sowie eine 
 gute\, postoperative Nachsorge wichtig. Unsere zuständigen Oberärzte der
  Klinik für Neurologie werden zu diesem Thema referieren.\n\nEin nichtmot
 orisches Symptom\, das häufig auftritt\, aber eher übersehen wird als di
 e Sprechstörungen\, sind Schluckstörungen. Diagnostik sowie restituieren
 de und kompensatorische  Therapieverfahren stehen im Zentrum des Vortrags
  unserer Logopädin Frau Hengstermann.\n\nDen Abschluss bildet ein interak
 tives Gespräch mit unseren Referierenden zu allen Themen\, die Sie bewege
 n.\n\nDetaillierte Infos entnehmen Sie unserem Flyer (hier).
ATTACH;FMTTYPE=image/jpeg:https://christophorus-kliniken.de/wp-content/upl
 oads/Parkinsontag.jpg
CATEGORIES:Veranstaltungen &amp; Fortbildungen
LOCATION:Christophorus Kliniken Dülmen\, Vollenstr. 10\, Dülmen\, NRW\, 4
 8249\, Deutschland
X-APPLE-STRUCTURED-LOCATION;VALUE=URI;X-ADDRESS=Vollenstr. 10\, Dülmen\, N
 RW\, 48249\, Deutschland;X-APPLE-RADIUS=100;X-TITLE=Christophorus Kliniken
  Dülmen:geo:0,0
END:VEVENT
BEGIN:VTIMEZONE
TZID:Europe/Berlin
X-LIC-LOCATION:Europe/Berlin
BEGIN:DAYLIGHT
DTSTART:20250330T030000
TZOFFSETFROM:+0100
TZOFFSETTO:+0200
TZNAME:CEST
END:DAYLIGHT
END:VTIMEZONE
END:VCALENDAR