BEGIN:VCALENDAR
VERSION:2.0
PRODID:-//wp-events-plugin.com//7.2.3.1//EN
TZID:Europe/Berlin
X-WR-TIMEZONE:Europe/Berlin
BEGIN:VEVENT
UID:114@christophorus-kliniken.de
DTSTART;TZID=Europe/Berlin:20180712T190000
DTEND;TZID=Europe/Berlin:20180712T203000
DTSTAMP:20180612T094417Z
URL:https://christophorus-kliniken.de/veranstaltungen/schmerzen-im-schulte
 r-arm-bereich-tennisarm-arthrose-impingement/
SUMMARY:Schmerzen im Schulter-Arm-Bereich - Tennisarm\, Arthrose\, Impingem
 ent
DESCRIPTION:Die Schulter ist bemerkenswert – bietet sie doch als Gelenk d
 en größten Bewegungsumfang. Doch dadurch ist sie nicht besonders stabil 
 – und somit anfällig für Verschleiß und Verletzungen. Viele Menschen 
 leiden deshalb unter Schulterschmerzen. \nDr. Jakob stellt in seinem Vortr
 ag die häufigsten Erkrankungen im Bereich des Schultergelenks vor\, z. B.
  die „Kalkschulter“\, Risse der Rotatorenmanschette und das Impingemen
 tsyndrom. Anschließend berichtet er über die verschiedenen Behandlungsfo
 rmen und die neuen Entwicklungen in der Schulterprothetik. Im Anschluss an
  den Vortrag ist Gelegenheit mit dem Referenten ins Gespräch zu kommen.\
 nReferent: Dr. med. Dirk-Sven Jakob\, Chefarzt der Chirurgischen Klinik 2 
 - Klinik für Orthopädie und Unfallchirugie - der Christophorus-Kliniken\
 nDer Vortrag ist kostenfrei\, eine Anmeldung ist nicht erforderlich. Frage
 n beantwortet Anja Vöcking\, Marketing und Öffentlichkeitsarbeit\, Tel. 
 02541 89-14033.
ATTACH;FMTTYPE=image/jpeg:https://christophorus-kliniken.de/wp-content/upl
 oads/Jakob_in_Behandlung_Schulter_2012_presse.jpg
CATEGORIES:Veranstaltungen &amp; Fortbildungen
LOCATION:Alte Amtmannei\, Alte Amtmannei\, Stiftstr. 15\, Nottuln\, 48301\,
  Deutschland
X-APPLE-STRUCTURED-LOCATION;VALUE=URI;X-ADDRESS=Alte Amtmannei\, Stiftstr. 
 15\, Nottuln\, 48301\, Deutschland;X-APPLE-RADIUS=100;X-TITLE=Alte Amtmann
 ei:geo:0,0
END:VEVENT
BEGIN:VTIMEZONE
TZID:Europe/Berlin
X-LIC-LOCATION:Europe/Berlin
BEGIN:DAYLIGHT
DTSTART:20180325T030000
TZOFFSETFROM:+0100
TZOFFSETTO:+0200
TZNAME:CEST
END:DAYLIGHT
END:VTIMEZONE
END:VCALENDAR