BEGIN:VCALENDAR
VERSION:2.0
PRODID:-//wp-events-plugin.com//7.2.3.1//EN
TZID:Europe/Berlin
X-WR-TIMEZONE:Europe/Berlin
BEGIN:VEVENT
UID:138@christophorus-kliniken.de
DTSTART;TZID=Europe/Berlin:20200915T173000
DTEND;TZID=Europe/Berlin:20200915T181500
DTSTAMP:20200912T111733Z
URL:https://christophorus-kliniken.de/veranstaltungen/schmerzen-in-der-hue
 fte-ursachen-und-therapiemoeglichkeiten/
SUMMARY:Online-Veranstaltung: Schmerzen in der Hüfte - Ursachen und Therap
 iemöglichkeiten
DESCRIPTION:Schmerzen in der Hüfte können unterschiedliche Gründe haben\
 , wie z.B. verschiedene Erkrankungen oder Deformierungen. Der Referent geh
 t in seinem Vortrag auf Therapiemöglichkeiten ein und stellt Operationsop
 tionen auch mit verschiedenen Prothesenmodellen vor.\nDie Veranstaltung is
 t im Internet unter https://www.facebook.com/ChristophorusKliniken/ erreic
 hbar. Eine Anmeldung bei Facebook ist nicht erforderlich.\nIm Anschluss an
  den Vortrag besteht die Möglichkeit\, Ihre Fragen zu stellen. Diese gebe
 n Sie in das "Kommentarfeld" der facebook-Seite ein. Der Referent geht ger
 ne auf Ihre unterschiedlichen Fragestellungen ein. Senden Sie uns Ihre Fra
 gen auch gerne vorab als private Nachricht.\nReferent: Dr. Dirk-Sven Jakob
 \, Chefarzt der Klinik für Unfallchirurgie und Orthopädie der Christopho
 rus Kliniken\nDie Teilnahme an der Online-Veranstaltung ist kostenfrei\, e
 ine Anmeldung ist nicht erforderlich. Infos unter 02541 89-14033\nNach dem
  Termin können Sie das Video im YouTube-Kanal der Christophorus Kliniken 
 erreichen.
ATTACH;FMTTYPE=image/jpeg:https://christophorus-kliniken.de/wp-content/upl
 oads/Huefte.jpg
CATEGORIES:Veranstaltungen &amp; Fortbildungen
END:VEVENT
BEGIN:VTIMEZONE
TZID:Europe/Berlin
X-LIC-LOCATION:Europe/Berlin
BEGIN:DAYLIGHT
DTSTART:20200329T030000
TZOFFSETFROM:+0100
TZOFFSETTO:+0200
TZNAME:CEST
END:DAYLIGHT
END:VTIMEZONE
END:VCALENDAR