BEGIN:VCALENDAR
VERSION:2.0
PRODID:-//wp-events-plugin.com//7.2.3.1//EN
TZID:Europe/Berlin
X-WR-TIMEZONE:Europe/Berlin
BEGIN:VEVENT
UID:247@christophorus-kliniken.de
DTSTART;TZID=Europe/Berlin:20230425T190000
DTEND;TZID=Europe/Berlin:20230425T210000
DTSTAMP:20230413T093749Z
URL:https://christophorus-kliniken.de/veranstaltungen/schwangerschaft-und-
 geburt-wenn-mein-baby-zu-frueh-kommen-will-was-bedeutet-das/
SUMMARY:Schwangerschaft und Geburt: Wenn mein Baby zu früh kommen will - W
 as bedeutet das?
DESCRIPTION:Als Frühgeburt gilt ein Baby dann\, wenn es vor Vollendung de
 r 37. Schwangerschaftswoche geboren wurde. Gibt es Anzeichen für eine mö
 gliche Frühgeburt\, und wenn ja\, wie sehen diese aus? Kann ich als Mutte
 r etwas tun? Gibt es Risikofaktoren für eine Frühgeburt? Und wenn der Fa
 ll eintritt - welche Folgen sind für mein Kind absehbar?\n\nMit diesen Fr
 agen beschäftigt sich ein Vortrag der VHS Coesfeld\, Billerbeck\, Nottuln
  und der Christophorus Kliniken im Rahmen des Patientenforums. Referentinn
 en sind die beiden Chefärztinnen der Frauenklinik und Leitenden Ärztinne
 n des Bereichs Geburtshilfe der Christophorus Kliniken\, Dr. Sandra Edeler
  und Dr. Cordula von Kleinsorgen. Die beiden gehen außerdem auf medizinis
 che Möglichkeiten bei drohenden Fehlgeburten ein und erläutern Hintergr
 ünde und Behandlungsmethoden.\n\nDer Vortrag findet am Dienstag\, 25. Apr
 il\, um 19 Uhr in der Alten Landwirtschaftsschule\, Darfelder Str. 10 in B
 illerbeck\, statt. Er ist kostenfrei\, eine Anmeldung ist erforderlich (02
 541-94810\, vhs@coesfeld.de).
ATTACH;FMTTYPE=image/jpeg:https://christophorus-kliniken.de/wp-content/upl
 oads/Duo-Dr.-Sandra-Edeler_rechts_Dr.-Cordula-von-Kleinsorgen_2023_Ausschn
 itt-1.png
CATEGORIES:Veranstaltungen &amp; Fortbildungen
LOCATION:Alte Landwirtschaftsschule Billerbeck\, Darfelder Str. 10\, Biller
 beck\, NRW\, 48727\, Deutschland
X-APPLE-STRUCTURED-LOCATION;VALUE=URI;X-ADDRESS=Darfelder Str. 10\, Billerb
 eck\, NRW\, 48727\, Deutschland;X-APPLE-RADIUS=100;X-TITLE=Alte Landwirtsc
 haftsschule Billerbeck:geo:0,0
END:VEVENT
BEGIN:VTIMEZONE
TZID:Europe/Berlin
X-LIC-LOCATION:Europe/Berlin
BEGIN:DAYLIGHT
DTSTART:20230326T030000
TZOFFSETFROM:+0100
TZOFFSETTO:+0200
TZNAME:CEST
END:DAYLIGHT
END:VTIMEZONE
END:VCALENDAR