BEGIN:VCALENDAR
VERSION:2.0
PRODID:-//wp-events-plugin.com//7.2.3.1//EN
TZID:Europe/Berlin
X-WR-TIMEZONE:Europe/Berlin
BEGIN:VEVENT
UID:350@christophorus-kliniken.de
DTSTART;TZID=Europe/Berlin:20260617T190000
DTEND;TZID=Europe/Berlin:20260617T203000
DTSTAMP:20250812T071840Z
URL:https://christophorus-kliniken.de/veranstaltungen/vortrag-gelenkversch
 leiss-im-alter-wann-und-wie-sollte-eine-operative-versorgung-erfolgen/
SUMMARY:Vortrag: Gelenkverschleiß im Alter – Wann und wie sollte eine op
 erative Versorgung erfolgen?
DESCRIPTION:Viele Menschen leiden unter Gelenkbeschwerden. Dahinter können
  verschiedenste Ursachen stehen – z. B.\, Knorpelschäden\, Bänderrisse
 \, Deformierungen oder Arthrose. Einen Vortrag über Hüft- und Kniegelenk
 e hält der Chefarzt der Klinik für Orthopädie und Unfallchirurgie. Er i
 st anerkannter Spezialist für das Einsetzen moderner Prothesen im Bereich
  der großen Gelenke\, so z.B. des Hüft- und Kniegelenks\, und Leiter des
  Endoprothetikzentrums der Christophorus Kliniken Coesfeld. An diesem Aben
 d beantwortet er die Frage\, ob und wann es sinnvoll ist\, im Alter und be
 i Arthrose-Beschwerden Gelenke zu ersetzen.\n\nReferent: Dr. med. Dirk-Sve
 n Jakob\, Chefarzt der Klinik für Orthopädie und Unfallchirurgie der Chr
 istophorus Kliniken\n\nDer Vortrag wird veranstaltet vom Gesundheitsforum 
 Coesfeld und ist kostenfrei. Eine Anmeldung ist nicht erforderlich. Infos 
 gibt es bei der FBS Coesfeld\, Tel. 02541 49266.
ATTACH;FMTTYPE=image/jpeg:https://christophorus-kliniken.de/wp-content/upl
 oads/Schulter-1-scaled.jpg
CATEGORIES:Veranstaltungen &amp; Fortbildungen
LOCATION:Familienbildungsstätte\, Marienring 27\, Coesfeld\, Deutschland
X-APPLE-STRUCTURED-LOCATION;VALUE=URI;X-ADDRESS=Marienring 27\, Coesfeld\, 
 Deutschland;X-APPLE-RADIUS=100;X-TITLE=Familienbildungsstätte:geo:0,0
END:VEVENT
BEGIN:VTIMEZONE
TZID:Europe/Berlin
X-LIC-LOCATION:Europe/Berlin
BEGIN:DAYLIGHT
DTSTART:20260329T030000
TZOFFSETFROM:+0100
TZOFFSETTO:+0200
TZNAME:CEST
END:DAYLIGHT
END:VTIMEZONE
END:VCALENDAR